BEGIN:VCALENDAR
PRODID:ticketshop.pitmodule.de
VERSION:2.0
CALSCALE:GREGORIAN
BEGIN:VEVENT
UID:a3162d16dbaec5430f9a95b54fc5dd05
DTSTAMP:20260421T132737Z
SUMMARY:Musica Serena
DESCRIPTION:„Musica Serena“\nJoseph Haydn Streichtrio G-Dur op. 53\,1\n
 Ernö Dohnányi: Serenade op. 10\nLudwig v. Beethoven: Serenade op. 8\n\nB
 esetzung:\nKonstanze Felber-Faur\, Violine\nLydia Bach\, Viola\nPatrick Bu
 rkhardt\, Violoncello\n
URL:https://ticketshop.pitmodule.de/shop/ksk-heilbronn/event/755316
DTSTART;VALUE=DATE:20260505
LOCATION:Unter der Pyramide\, Am Wollhaus 14\, 74072 Heilbronn
END:VEVENT
END:VCALENDAR
