BEGIN:VCALENDAR
PRODID:ticketshop.pitmodule.de
VERSION:2.0
CALSCALE:GREGORIAN
BEGIN:VEVENT
UID:fddc31956c0329ac616b146b69159332
DTSTAMP:20260421T132743Z
SUMMARY:Väter der Klamotte
DESCRIPTION:„Väter der Klamotte“\nJoachim Raff: Klaviertrio G-Dur op. 
 112\nBenjamin Godard: 6 Duettini op. 18\nIwan Knorr: Klavierquartett Es-Du
 r op. 3\n\nBesetzung:\nIngmar Lazar\, Klavier\nZohar Lerner\, Violine\nGö
 tz Engelhardt\, Violine &Viola\nAdriana Schubert\, Violoncello\n
URL:https://ticketshop.pitmodule.de/shop/ksk-heilbronn/event/755317
DTSTART;VALUE=DATE:20260609
LOCATION:Unter der Pyramide\, Am Wollhaus 14\, 74072 Heilbronn
END:VEVENT
END:VCALENDAR
