BEGIN:VCALENDAR
PRODID:ticketshop.pitmodule.de
VERSION:2.0
CALSCALE:GREGORIAN
BEGIN:VEVENT
UID:8e082014db988a64a3f6e09a1e29a5f4
DTSTAMP:20260421T132718Z
SUMMARY:Perlende Saitenblicke
DESCRIPTION:Kulturhaus Obersulm\nRathausgasse 4\n74182 Obersulm\n\n \n\nMa
 ren Ferber - Harfe\n\nEngelsgleich und emotional: Die traumhaften Töne\, 
 die Harfenistin Maren Ferber ihrem Instrument entlockt\, überraschen und 
 begeistern mit ungeahnter musikalischer Vielfalt. Vom Barock-Flamenco bis 
 zu Filmmelodien und Popsongs reicht das Konzertprogramm\, das vielsagend u
 nd augenzwinkernd zugleich mit „Saitenblicke“ überschrieben ist. Die 
 aus Bad Rappenau kommende Maren Ferber präsentiert bekannte Lieblingsstü
 cke und neu entdeckte Werke verschiedener Stilrichtungen. Mal heiter und m
 al ernst führt die Musikerin dabei durch das Programm und fasziniert mit 
 den vielseitigen Möglichkeiten ihres großen und dennoch filigranen Instr
 uments sowie romantisch-impressionistisch perlenden Harfenklängen.\n\nHin
 weis: Sofern die Veranstaltung nicht als ausverkauft angezeigt wird\, sin
 d Restkarten an der Abendkasse erhältlich. Diese können Sie dann gerne v
 or Ort bar bezahlen.\n
URL:https://ticketshop.pitmodule.de/shop/ksk-heilbronn/event/844933
DTSTART:20260425T190000
DTEND:20260425T210000
LOCATION:Rathausgasse 4\, 74182 Obersulm
END:VEVENT
END:VCALENDAR
