BEGIN:VCALENDAR
PRODID:ticketshop.pitmodule.de
VERSION:2.0
CALSCALE:GREGORIAN
BEGIN:VEVENT
UID:04edd54210d80c47c13d0c362ea9faf6
DTSTAMP:20260421T132559Z
SUMMARY:The Lady sings
DESCRIPTION:Campus Garden\nBildungscampus 1\n74076 Heilbronn\n\n \n\nKim H
 ofmann – Gesang\nWerner Acker – Gitarre\nCampus Garden - Tapas\n\nSie 
 sind ein eingespieltes Team: Das Duo Kim Hofmann und Werner Acker bringt b
 ekannte Songs aus Pop\, Soul und Jazz in unverwechselbaren Versionen auf d
 ie Bühne. Mit gefühlvollem Gesang und virtuosem Gitarrenspiel schaffen s
 ie intime und doch kraftvolle Neuinterpretationen beliebter Klassiker etwa
  von Aretha Franklin\, Joss Stone\, Olivia Dean und vielen mehr. Kim Hofma
 nn verleiht den Songs mit ihrer facettenreichen Stimme eine ganz eigene No
 te\, während Werner Acker mit seinem vielseitigen Gitarrensound für ein 
 stimmungsvolles und harmonisches Klangbild sorgt. Das Konzept serviert Kla
 ng und Kulinarik im Wechsel\, abgestimmt wie ein Menü in drei Akten.\n\nH
 inweis: Sofern die Veranstaltung nicht als ausverkauft angezeigt wird\, s
 ind Restkarten an der Abendkasse erhältlich. Diese können Sie dann gerne
  vor Ort bar bezahlen.\n
URL:https://ticketshop.pitmodule.de/shop/ksk-heilbronn/event/844934
DTSTART:20260429T190000
DTEND:20260429T210000
LOCATION:Bildungscampus 1\, 74076 Heilbronn
END:VEVENT
END:VCALENDAR
