BEGIN:VCALENDAR
PRODID:ticketshop.pitmodule.de
VERSION:2.0
CALSCALE:GREGORIAN
BEGIN:VEVENT
UID:8e48aa1e659123a0b5dbcb69940cd12a
DTSTAMP:20260421T132610Z
SUMMARY:Virtuoser Jazz und Weltmusik
DESCRIPTION:Alte Reederei Heilbronn\nAm Neckaruferpark 20\n74076 Heilbronn\
 n\n \n\nFlorian Vogel – Violine\nSteffen Hollenweger – Kontrabass\nAl
 te Reederei – Gastronomie\n\nDie ausgebildeten Vollblutmusiker Florian V
 ogel und Steffen Hollenweger spielen seit Jahren gemeinsam in unterschiedl
 ichen Ensembles\, unter anderem bei der Klezmer-Band fojgl. In ihrem neuen
  Programm sind sie zum ersten Mal als Duo zu erleben mit Eigenkompositione
 n\, Jazzstandards und Folk/Weltmusik vom Balkan\, aus Osteuropa und Argent
 inien. Diesen wilden Mix bereichern sie mit ihren Improvisationen. Musik m
 it virtuoser Technik\, auf höchstem spielerischem Niveau! Das Publikum da
 rf sich auf feinste musikalische Kost freuen\, passend dazu bietet die Alt
 e Reederei ein schönes Speisen- und Getränkeangebot.\n\nHinweis: Sofern
  die Veranstaltung nicht als ausverkauft angezeigt wird\, sind Restkarten 
 an der Abendkasse erhältlich. Diese können Sie dann gerne vor Ort bar be
 zahlen.\n
URL:https://ticketshop.pitmodule.de/shop/ksk-heilbronn/event/844935
DTSTART:20260507T190000
DTEND:20260507T210000
LOCATION:Am Neckaruferpark 20\, 74076 Heilbronn
END:VEVENT
END:VCALENDAR
