BEGIN:VCALENDAR
PRODID:ticketshop.pitmodule.de
VERSION:2.0
CALSCALE:GREGORIAN
BEGIN:VEVENT
UID:9009e493d42d27553b5d385920d45cb1
DTSTAMP:20260421T132849Z
SUMMARY:BitterGreen: Lieder die Geschichten erzählen
DESCRIPTION:BeratungsCenter der Kreissparkasse in Lauffen\nIm Brühl\n74348
  Lauffen\n\n \n\nBarbara Gräsle – Gitarre/Gesang\nStephan Kalinke – 
 Bass/Gesang\n\nLieder wie alte Bekannte und neue Freunde! Wenn Barbara Gr
 äsle und Stephan Kalinke als BitterGreen alles für einen stimmungsvollen
  Liederabend zusammenstellen\, ist das schon fast wie das genussvolle Blä
 ttern im großen Buch der Musikgeschichte: Mit Klassikern aus dem amerikan
 ischen „Songbook“ der 60er Jahre bis heute sowie Country- und Folkperl
 en von Größen wie Gordon Lightfoot\, James Taylor oder Garth Brooks. Und
  sogar die Herzenslieder deutscher Künstler wie Reinhard Mey und Herbert 
 Grönemeyer fügen sich harmonisch in die außergewöhnlich arrangierten V
 ersionen des Duos.\n\nHinweis: Sofern die Veranstaltung nicht als ausverk
 auft angezeigt wird\, sind Restkarten an der Abendkasse erhältlich. Diese
  können Sie dann gerne vor Ort bar bezahlen.\n
URL:https://ticketshop.pitmodule.de/shop/ksk-heilbronn/event/845147
DTSTART:20260513T193000
DTEND:20260513T210000
LOCATION:Im Brühl\, 74348 Lauffen
END:VEVENT
END:VCALENDAR
