BEGIN:VCALENDAR
PRODID:ticketshop.pitmodule.de
VERSION:2.0
CALSCALE:GREGORIAN
BEGIN:VEVENT
UID:b93636e5ea7d0e80d563f5dddef33f3e
DTSTAMP:20260421T150135Z
SUMMARY:Sommernachtskonzert mit Dinner
DESCRIPTION:Alte Reederei Heilbronn\nAm Neckaruferpark 20\n74076 Heilbronn\
 n\n \n\n\nCurly – Gesang\nMarcus Trübendörfer – Klavier\nAlte Reede
 rei – 3-Gänge Menü\n \nEs ist die ultimative Einladung zum Genuss: In
  das elegante Universum des Lounge- und Nu-Jazz entführen Sängerin Curly
  und Pianist Marcus Trübendörfer. Hier treffen bekannte Popsongs auf sam
 tweiche Jazz-Grooves\, akustische Raffinesse und Curlys sinnliche Stimme. 
 Ausdrucksstark und mit faszinierender Bühnenpräsenz verleiht Curly den S
 ongs ihre ganz eigene Note. Das Duo sorgt für ein entspannt-lässiges Amb
 iente und perfektes Lounge-Feeling – mit Musik\, die vertraut klingt\, a
 ber neu schillert. Dazu verwöhnt die Alte Reederei mit einem feinen drei-
 Gänge-Menü. Der pure Wohlfühl-Abend!\n\nHinweis: Sofern die Veranstalt
 ung nicht als ausverkauft angezeigt wird\, sind Restkarten an der Abendkas
 se erhältlich. Diese können Sie dann gerne vor Ort bar bezahlen.\n
URL:https://ticketshop.pitmodule.de/shop/ksk-heilbronn/event/845149
DTSTART:20260625T190000
DTEND:20260625T210000
LOCATION:Am Neckaruferpark 20\, 74076 Heilbronn
END:VEVENT
END:VCALENDAR
