BEGIN:VCALENDAR
PRODID:ticketshop.pitmodule.de
VERSION:2.0
CALSCALE:GREGORIAN
BEGIN:VEVENT
UID:539b939547972fe3698364a064baf130
DTSTAMP:20260421T151110Z
SUMMARY:Hearts and Bones - Songs of a century
DESCRIPTION:SLK Kliniken Heilbronn - Franziska-Schwarz-Hörsaal\nAm Gesundb
 runnen 20-26\n74078 Heilbronn\n\n \n\nBiggi Binder – Gesang & Percussio
 n\narbara Gräsle – Gitarre\n\n„Hearts and Bones“ mit Songs der 60er
 \, 70er und 80er. Sängerin Biggi Binder fesselt durch ihre rockig-soulige
  und facettenreiche Stimme\, die perfekt zum Gitarrenspiel von Barbara Gr
 äsle passt. Bei den beiden Multitalenten kommen die verschiedensten Instr
 umente zum Einsatz wie Akkordeon\, Tin Whistle\, Waschbrett\, Percussion u
 nd Cajon. Dadurch verleihen sie ihrem reduzierten\, akustischen Sound weit
 ere Klangfarben und den nötigen Groove. Freuen Sie sich auf Songs u.a. vo
 n Cyndie Lauper\, Gloria Estefan\, Sting\, Zaz\, James Taylor und vielen m
 ehr in der Frauenpower-Version von „Hearts and Bones“!\n\nHinweis: So
 fern die Veranstaltung nicht als ausverkauft angezeigt wird\, sind Restkar
 ten an der Abendkasse erhältlich. Diese können Sie dann gerne vor Ort ba
 r bezahlen.\n
URL:https://ticketshop.pitmodule.de/shop/ksk-heilbronn/event/845348
DTSTART:20260924T183000
DTEND:20260924T194000
LOCATION:Am Gesundbrunnen 20-26\, 74078 Heilbronn
END:VEVENT
END:VCALENDAR
