BEGIN:VCALENDAR
PRODID:ticketshop.pitmodule.de
VERSION:2.0
CALSCALE:GREGORIAN
BEGIN:VEVENT
UID:f8559512c4f3a35af8e9ff87e25ee541
DTSTAMP:20260421T151652Z
SUMMARY:Nobody's Perfect
DESCRIPTION:Frizhalle Schwaigern\nTheodor-Heuss-Straße 12\n74193 Schwaiger
 n\n\n \n\nRuth Sabadino - Saxophon\nKurt Holzkämper – Bass\nChristoph 
 Sabadino – Drums\nWerner Acker – Gitarre\n\nDie Stuttgarter Saxophonis
 tin Ruth Sabadino widmet sich in ihrem neuen Programm „Nobody´s Perfect
 “ mit starken Eigenkompositionen und originellen Interpretationen „gel
 iehener“ Songs dem Auf und Ab des Lebens. Urbaner Großstadtblues trifft
  auf relaxten Funk-Jazz und bietet viel Freiraum für die solistischen Aus
 flüge der Band. Präsentiert mit Spielwitz\, erfrischendem Humor und Leic
 htigkeit erzählen die Songs von diversen Höhen & Tiefen. Mal augenzwinke
 rnd\, mal mit Tiefgang – aber immer stilsicher verpackt in einem griffig
 en Sound\, der mit Heart & Soul in die Beine geht und melodisch ansteckend
  ist. Fest an der Seite der Powerfrau steht eine brillante und bestens ein
 gespielte Band\, die seit vielen Jahren eine hörbar musikalische Freundsc
 haft verbindet. Als Gast dabei außerdem Werner Acker\, einer der begehrte
 sten Gitarristen der Szene.\n\nHinweis: Sofern die Veranstaltung nicht al
 s ausverkauft angezeigt wird\, sind Restkarten an der Abendkasse erhältli
 ch. Diese können Sie dann gerne vor Ort bar bezahlen.\n
URL:https://ticketshop.pitmodule.de/shop/ksk-heilbronn/event/845350
DTSTART:20260926T190000
DTEND:20260926T210000
LOCATION:Theodor-Heuss-Straße 12\, 74193 Schwaigern
END:VEVENT
END:VCALENDAR
