BEGIN:VCALENDAR
PRODID:ticketshop.pitmodule.de
VERSION:2.0
CALSCALE:GREGORIAN
BEGIN:VEVENT
UID:266f9b981a95ff5d7de533d84b437bc6
DTSTAMP:20260421T145814Z
SUMMARY:Vom Bambusrohr zur Zauberflöte
DESCRIPTION:Alte Baukelter Weinsberg\nSeufferheldstraße 14\n74189 Weinsber
 g\n\n \n\nBritt Christiansen – Klavier\nKathrin Jöris – Flöten\n\nE
 infach flötississimo! Ein quicklebendiges und spannendes Familienkonzert 
 zum Zuhören und Mitmachen rund um eines der beliebtesten Musikinstrumente
 . Wer kann auf einem Bambusrohr blasen? Wer findet die „Flatterzunge“?
  Warum wird ein Ton tiefer\, wenn man aus der Flasche trinkt und wieder hi
 neinbläst? Und wie klingt ein Lied auf einer ganzen Wasserflaschen-Sammlu
 ng? Wie der Ton in die Flöte kommt und wie aus Tönen Musik wird\, was ü
 berhaupt ein Konzert oder eine Oper ist\, wird lebhaft erklärt. Von Mozar
 ts Vogelfänger-Lied über Vittorio Montis berühmten Geigen-Czardas in ei
 ner „Special Edition“ bis zum schmissigen Tico Tico spannen Britt Chri
 stiansen (Konzept\, Moderation\, Klavier) und die preisgekrönte Solo-Flö
 tistin Kathrin Jöris (Neue Philharmonie Westfalen) den Bogen. Virtuos beh
 errscht sie die große Flötenfamilie von der Panflöte über Bass-Querfl
 öte\, Piccoloflöte\, Traversflöte\, Blockflöte\, Sopranino bis zur Que
 rflöte. Natürlich dürfen Kinder selbst aktiv werden und z.B. in einem Q
 uiz testen\, ob sie deren Klänge unterscheiden können.\n\nHinweis: Sofe
 rn die Veranstaltung nicht als ausverkauft angezeigt wird\, sind Restkarte
 n an der Abendkasse erhältlich. Diese können Sie dann gerne vor Ort bar 
 bezahlen.\n
URL:https://ticketshop.pitmodule.de/shop/ksk-heilbronn/event/845356
DTSTART:20261011T110000
DTEND:20261011T123000
LOCATION:Seufferheldstraße 14\, 74189 Weinsberg
END:VEVENT
END:VCALENDAR
