BEGIN:VCALENDAR
PRODID:ticketshop.pitmodule.de
VERSION:2.0
CALSCALE:GREGORIAN
BEGIN:VEVENT
UID:b35c49a355d8223e4b14109d1e29b119
DTSTAMP:20260421T151110Z
SUMMARY:Latin-Rhythmen & klassische Melodien
DESCRIPTION:Alte Kelter Meimsheim\nLöwengasse 14\n74336 Brackenheim-Meimsh
 eim\n\n \n\nAndrej Lebedev - Gitarre\nTres Cubano Michael Speth - Violine
 \, Gesang\nSteffen Hollenweger - Kontrabass\nJuan Mauricio Bahamon Jaramil
 lo- Percussion\, Gesang\n\nTschaikowskys Schwäne tanzen im Salsa-Rhythmus
 \, aus Rachmaninovs berühmtem Vocalise wird ein brasilianischer Choro\, M
 ozarts 40-te verwandelt sich in Bossa-Nova und Prokofievs Visions fugitive
 s transformiert sich zu einem Reggae. Auch Werke von J.S. Bach und R. Schu
 mann gibt es in neuem Gewand\, wobei sich auskomponierte Teile der Arrange
 ments und Improvisationen der Musiker abwechseln. Im Konzert erwarten Sie 
 darüber hinaus latin-inspirierte Eigenkompositionen von Andrey Lebedev. D
 ie ausgefeilten eigenen Arrangements sind rhythmisch\, jazzig\, einfühlsa
 m und ausdrucksstark. Feinste handgemachte Weltmusik – mit einem guten S
 chuss Klassik.\n
URL:https://ticketshop.pitmodule.de/shop/ksk-heilbronn/event/845357
DTSTART:20261017T190000
DTEND:20261017T210000
LOCATION:Löwengasse 14\, 74336 Brackenheim-Meimsheim
END:VEVENT
END:VCALENDAR
