BEGIN:VCALENDAR
PRODID:ticketshop.pitmodule.de
VERSION:2.0
CALSCALE:GREGORIAN
BEGIN:VEVENT
UID:fd1f152a8281a52dab7c34714ff5ca8c
DTSTAMP:20260421T150932Z
SUMMARY:Moving Souls - Musik\, die bewegt!
DESCRIPTION:BeratungsCenter der Kreissparkasse in Weinsberg\nKernerstraße 
 19\n74189 Weinsberg\n\n \n\nMiriam Martin – Gesang\nSarah Hank-Paidar 
 – Bass\nMatthias Waßer – Gitarre\n\nOb auf der Bühne oder mitten im
  Publikum – Moving Souls fasziniert mit vielseitigem Repertoire und ausd
 rucksstarker Präsenz. Die Band\, bestehend aus Matthias Waßer (Gitarre)\
 , Miriam Martin (Gesang) und Sarah Hank-Paidar (Bass)\, bringt Musik aus d
 en vergangenen sieben Jahrzehnten auf eine Weise zum Leben\, die berührt
  und begeistert. Von zeitlosen Klassikern bis zu aktuellen Hits präsentie
 rt Moving Souls eine abwechslungsreiche Mischung. Ob als stimmungsvoller W
 alking Act\, der hautnah mit den Gästen interagiert\, oder als mitreißen
 de Darbietung auf der Bühne – die Band überzeugt durch Professionali
 tät\, Vielseitigkeit und musikalisches Können. Das Trio versteht es\, be
 i jedem Konzert eine besondere Atmosphäre zu schaffen. Lassen Sie sich vo
 n ihrem Groove anstecken und erleben Sie eine Band\, die nicht nur spielt\
 , sondern bewegt – Moving Souls.\n\nHinweis: Sofern die Veranstaltung n
 icht als ausverkauft angezeigt wird\, sind Restkarten an der Abendkasse er
 hältlich. Diese können Sie dann gerne vor Ort bar bezahlen.\n
URL:https://ticketshop.pitmodule.de/shop/ksk-heilbronn/event/845358
DTSTART:20261021T190000
DTEND:20261021T210000
LOCATION:Kernerstraße 19\, 74189 Weinsberg
END:VEVENT
END:VCALENDAR
