BEGIN:VCALENDAR
PRODID:ticketshop.pitmodule.de
VERSION:2.0
CALSCALE:GREGORIAN
BEGIN:VEVENT
UID:ebcf912a11ba240a54e9f929675d3aef
DTSTAMP:20260421T151034Z
SUMMARY:Evergreens\, Jazz und Pop
DESCRIPTION:Campus Garden\nBildungscampus 1\n74076 Heilbronn\n\n \n\nAniko
  Sözeri – Gesang\nFlorian Geibel – Klavier\nCampus Garden - Tapas\n\n
 Hits wie „Walking on Sunshine“ von Katrina and the Waves oder wunderba
 re Songs von Whitney Houston und Norah Jones zaubern direkt ein Lächeln i
 ns Gesicht. Bei „Evergreens\, Jazz und Pop“ interpretieren Sängerin A
 niko Sözeri und Pianist Florian Geibel mit Leidenschaft und Verve bekannt
 e Pop-Perlen und schaffen mit ihrer Ausdrucksstärke und Intensität eine 
 warme Wohlfühl-Atmosphäre. Dazu gesellen sich Klassiker wie „What a Wo
 nderful World“ von Louis Armstrong und unvergessene Hits von Frank Sinat
 ra. Das Duo Sözeri und Geibel garantiert einen Gute-Laune-Abend in der Ge
 nuss-Location Campus Garden. Das Konzept serviert Klang und Kulinarik im W
 echsel\, abgestimmt wie ein Menü in drei Akten.\n\nHinweis: Sofern die V
 eranstaltung nicht als ausverkauft angezeigt wird\, sind Restkarten an der
  Abendkasse erhältlich. Diese können Sie dann gerne vor Ort bar bezahlen
 .\n
URL:https://ticketshop.pitmodule.de/shop/ksk-heilbronn/event/845359
DTSTART:20261104T190000
DTEND:20261104T210000
LOCATION:Bildungscampus 1\, 74076 Heilbronn
END:VEVENT
END:VCALENDAR
