BEGIN:VCALENDAR
PRODID:ticketshop.pitmodule.de
VERSION:2.0
CALSCALE:GREGORIAN
BEGIN:VEVENT
UID:3741259e5895efb7a50b5fd076e39938
DTSTAMP:20260421T152301Z
SUMMARY:The Ella Fritzgerald Songbook
DESCRIPTION:Ratshöfle Güglingen\nMarktstraße 19/21\n74363 Güglingen\n\n
  \n\nKatia Belley – Gesang\nVictoria Pohl – Piano\nFelix Wiegand – 
 Bass\n\nElla Fitzgerald war unbestritten eine der größten Sängerinnen d
 es Jazz. Mit Bigbands\, Orchestern und auch kleinen Combos spielte sie zah
 llose Aufnahmen ein\, die noch heute begeistern. Gerade diesen intimen Com
 bo Versionen widmet sich das Programm des Trios. Die charmante französisc
 he Sängerin Katia Belley interpretiert Ellas Musik auf ihre ganz eigene A
 rt und Weise und die ausdrucksstarkte und vielseitige Pianistin Victoria P
 ohl sorgt mit Felix Wiegand am Kontrabass durch ihre einfühlsame Begleitu
 ng für das feine swingende Fundament und so manches solistische Highlight
 . Klassiker wie „Summertime“\, „Cheek to Cheek“\, „Tea for Two
 “\, „Georgia on my Mind“ und „I got Rhythm“ in den Ella-Versione
 n sorgen für einen spannenden\, stimmungsvollen und abwechslungsreichen A
 bend.\n\nHinweis: Sofern die Veranstaltung nicht als ausverkauft angezeig
 t wird\, sind Restkarten an der Abendkasse erhältlich. Diese können Sie 
 dann gerne vor Ort bar bezahlen.\n
URL:https://ticketshop.pitmodule.de/shop/ksk-heilbronn/event/845360
DTSTART:20261106T190000
DTEND:20261106T210000
LOCATION:Marktstraße 19/21\, 74363 Güglingen
END:VEVENT
END:VCALENDAR
