BEGIN:VCALENDAR
PRODID:ticketshop.pitmodule.de
VERSION:2.0
CALSCALE:GREGORIAN
BEGIN:VEVENT
UID:a4386471928072423303a99a74ab50f5
DTSTAMP:20260421T152650Z
SUMMARY:"The Pink Dad"
DESCRIPTION:Schloss Kirchhausen\nSchloßplatz 2\n74078 Heilbronn\n\n \n\nS
 ascha Straub – Lesung\nRuth Sabadino – Saxophon\n\nWie fühlt es sich 
 an\, wenn das eigene Leben zur Bühne wird und die Gesellschaft zwischen A
 ugen verdrehen\, Neugierde und Applaus schwankt? „The Pink Dad“ entfü
 hrt Leser – ganz ohne Klischees und voller Herzlichkeit – in die schil
 lernde Welt eines Protagonisten\, der mit Witz\, Charme und einer Prise Se
 lbstironie seinen Platz zwischen ablehnenden Stimmen\, neugierigen Blicken
  und positiven Zuspruch behauptet. Mit feinem Humor und treffender Beobach
 tungsgabe schildert das Buch Begegnungen\, die mal absurd\, mal berührend
 \, stets aber unterhaltsam sind. „The Pink Dad“ ist eine Hommage an In
 dividualität\, Mut und das Leben jenseits gängiger Schubladen – sowie 
 ein liebevoller Appell\, Vielfalt mit offenen Armen zu feiern. Ein inspiri
 erendes und humorvolles Leseerlebnis\, das lange nachklingt und zeigt: Wer
  sich selbst treu bleibt\, wird zum eigenen Helden – egal\, wie bunt der
  Weg auch ist!\n\nHinweis: Sofern die Veranstaltung nicht als ausverkauft
  angezeigt wird\, sind Restkarten an der Abendkasse erhältlich. Diese kö
 nnen Sie dann gerne vor Ort bar bezahlen.\n
URL:https://ticketshop.pitmodule.de/shop/ksk-heilbronn/event/845361
DTSTART:20261108T110000
DTEND:20261108T123000
LOCATION:Schloßplatz 2\, 74078 Heilbronn
END:VEVENT
END:VCALENDAR
