BEGIN:VCALENDAR
PRODID:ticketshop.pitmodule.de
VERSION:2.0
CALSCALE:GREGORIAN
BEGIN:VEVENT
UID:149f28d65cefe6f61ab5d7c650fa264b
DTSTAMP:20260421T151212Z
SUMMARY:The Lady sings
DESCRIPTION:Museum Altes Rathaus Leingarten\nEppinger Str. 150\n74211 Leing
 arten\n\n \n\nKim Hofmann – Gesang\nWerner Acker – Gitarre\n\nSie sin
 d ein eingespieltes Team: Das Duo Kim Hofmann und Werner Acker bringt beka
 nnte Songs aus Pop\, Soul und Jazz in unverwechselbaren Versionen auf die 
 Bühne. Mit gefühlvollem Gesang und virtuosem Gitarrenspiel schaffen sie 
 intime und doch kraftvolle Neuinterpretationen beliebter Klassiker etwa vo
 n Aretha Franklin\, Joss Stone\, Olivia Dean und vielen mehr. Kim Hofmann 
 verleiht den Songs mit ihrer facettenreichen Stimme eine ganz eigene Note\
 , während Werner Acker mit seinem vielseitigen Gitarrensound für ein sti
 mmungsvolles und harmonisches Klangbild sorgt. Das Konzept serviert Klang 
 und Kulinarik im Wechsel\, abgestimmt wie ein Menü in drei Akten.\n\nHinw
 eis: Sofern die Veranstaltung nicht als ausverkauft angezeigt wird\, sind
  Restkarten an der Abendkasse erhältlich. Diese können Sie dann gerne vo
 r Ort bar bezahlen.\n
URL:https://ticketshop.pitmodule.de/shop/ksk-heilbronn/event/845362
DTSTART:20261115T110000
DTEND:20261115T123000
LOCATION:Eppinger Str. 150\, 74211 Leingarten
END:VEVENT
END:VCALENDAR
