BEGIN:VCALENDAR
PRODID:ticketshop.pitmodule.de
VERSION:2.0
CALSCALE:GREGORIAN
BEGIN:VEVENT
UID:559f7599ea2dba17eb744a9b9cbe6aa7
DTSTAMP:20260421T150216Z
SUMMARY:Best of James Bond
DESCRIPTION:Kursaal Bad Wimpfen\nOsterbergstraße 16\n74206 Bad Wimpfen\n\n
  \n\nBond. James Bond. Der legendäre Geheimagent im Dienst der britische
 n Krone fasziniert seit Generationen. Seine Missionen sind atemberaubend\,
  spannend und zugleich von zeitloser Eleganz. Doch was wäre 007 ohne sein
 e unvergessliche Musik? Denn nicht minder ikonisch sind das unvergleichlic
 he Filmintro sowie die Songs der Filme. Amy Lungu & Friends nehmen Sie mit
  auf eine musikalische Reise durch die schönsten Melodien der legendären
  Bond-Filme. Das fünfköpfige Ensemble verleiht den Klassikern mit frisc
 hen Arrangements neuen Glanz\, echten Thrill und verspricht Gänsehautmome
 nte voller Eleganz und Energie.\n\nHinweis: Sofern die Veranstaltung nich
 t als ausverkauft angezeigt wird\, sind Restkarten an der Abendkasse erhä
 ltlich. Diese können Sie dann gerne vor Ort bar bezahlen.\n
URL:https://ticketshop.pitmodule.de/shop/ksk-heilbronn/event/845363
DTSTART:20261121T190000
DTEND:20261121T210000
LOCATION:Osterbergstraße 16\, 74206 Bad Wimpfen
END:VEVENT
END:VCALENDAR
