BEGIN:VCALENDAR
PRODID:ticketshop.pitmodule.de
VERSION:2.0
CALSCALE:GREGORIAN
BEGIN:VEVENT
UID:c966b69fc185a9502bd57c93854169cf
DTSTAMP:20260421T145738Z
SUMMARY:Moving Souls - Musik\, die bewegt!
DESCRIPTION:BeratungsCenter in Lauffen\nIm Brühl 10\n74348 Lauffen\n\n \n
 \nMiriam Martin – Gesang\nSarah Hank-Paidar – Bass\nMatthias Waßer 
 – Gitarre\n\nOb auf der Bühne oder mitten im Publikum – Moving Souls
  fasziniert mit vielseitigem Repertoire und ausdrucksstarker Präsenz. Die
  Band\, bestehend aus Matthias Waßer (Gitarre)\, Miriam Martin (Gesang) u
 nd Sarah Hank-Paidar (Bass)\, bringt Musik aus den vergangenen sieben Jahr
 zehnten auf eine Weise zum Leben\, die berührt und begeistert. Von zeitl
 osen Klassikern bis zu aktuellen Hits präsentiert Moving Souls eine abwec
 hslungsreiche Mischung. Ob als stimmungsvoller Walking Act\, der hautnah m
 it den Gästen interagiert\, oder als mitreißende Darbietung auf der Bü
 hne – die Band überzeugt durch Professionalität\, Vielseitigkeit und 
 musikalisches Können. Das Trio versteht es\, bei jedem Konzert eine beson
 dere Atmosphäre zu schaffen. Lassen Sie sich von ihrem Groove anstecken u
 nd erleben Sie eine Band\, die nicht nur spielt\, sondern bewegt – Movin
 g Souls.\n\nHinweis: Sofern die Veranstaltung nicht als ausverkauft angez
 eigt wird\, sind Restkarten an der Abendkasse erhältlich. Diese können S
 ie dann gerne vor Ort bar bezahlen.\n
URL:https://ticketshop.pitmodule.de/shop/ksk-heilbronn/event/845364
DTSTART:20261125T193000
DTEND:20261125T210000
LOCATION:Im Brühl 10\, 74348 Lauffen
END:VEVENT
END:VCALENDAR
