BEGIN:VCALENDAR
PRODID:ticketshop.pitmodule.de
VERSION:2.0
CALSCALE:GREGORIAN
BEGIN:VEVENT
UID:047b8f9af13a68dc4acb620e68bea988
DTSTAMP:20260421T151953Z
SUMMARY:Adventskonzert zum Nikolaustag
DESCRIPTION:Kultursaal der Ballei Neckarsulm\nDeutschordensplatz 1\n74172 N
 eckarsulm\n\n \n\nAmy Lungu & Friends mit Special Guests\n\nAmy Lungu –
  Violine\nChristoph Weinhart – Klavier\nRuth Sabadino – Saxophon\nBast
 i Schiller – Kontrabass\nChristoph Sabadino – Schlagzeug\n\nStimmen Si
 e sich auf Weihnachten ein! Bei diesem besonderen Adventskonzert am Nikola
 ustag treffen traditionelle deutsche Weihnachtslieder im neuen Arrangement
  auf internationale Songs wie die amerikanischen Christmas-Klassiker. Abge
 rundet wird dieses wunderschöne Programm von hörenswerten Eigenkompositi
 onen. Die Show ist besonders auch für Kinder geeignet und somit ein herze
 rwärmendes Event für die ganze Familie. Das macht den vorweihnachtlichen
  Stress vergessen und steigert die Vorfreude. Entschleunigt und beseelt vo
 n diesen Melodien können die Festtage kommen! Freuen Sie sich auf stimmun
 gsvolle Interpretationen von „Stille Nacht“ bis „Jingle Bells“ und
  viele mehr.\n\nHinweis: Sofern die Veranstaltung nicht als ausverkauft a
 ngezeigt wird\, sind Restkarten an der Abendkasse erhältlich. Diese könn
 en Sie dann gerne vor Ort bar bezahlen.\n
URL:https://ticketshop.pitmodule.de/shop/ksk-heilbronn/event/845365
DTSTART:20261206T180000
DTEND:20261206T200000
LOCATION:Deutschordensplatz 1\, 74172 Neckarsulm
END:VEVENT
END:VCALENDAR
