BEGIN:VCALENDAR
PRODID:ticketshop.pitmodule.de
VERSION:2.0
CALSCALE:GREGORIAN
BEGIN:VEVENT
UID:3cc6ebcb37067eec107681803fd13c88
DTSTAMP:20260421T151308Z
SUMMARY:Adventskonzert mit  Dinner
DESCRIPTION:Parkhotel Heilbronn\, Gymnasiumstr. 71\, 74072 Heilbronn\n\n \
 n\n"Adventskonzert mit Dinner"\n\nAmy Lungu & Friends mit Special Guests:\
 n\nAmy Lungu – Violine\nChristoph Weinhart – Klavier\nRuth Sabadino 
 – Saxophon\nBasti Schiller – Kontrabass\nChristoph Sabadino – Schlag
 zeug\n\nEin besonderer Höhepunkt im Konzertjahr ist das beliebte Adventsk
 onzert von Amy Lungu und ihrer Band. Der stimmungsvolle Abend im Parkhotel
  Heilbronn steigert die Vorfreude aufs Fest\, bietet er doch neben wunders
 chöner Weihnachtsmusik auch ein hervorragendes Dinner. Genießen Sie trad
 itionelle deutsche Weihnachtslieder und internationale Songs wie die ameri
 kanischen Christmas-Klassiker mit einer Portion Glamour! Die Plätze sind 
 begrenzt – es lohnt sich eine frühe Reservierung.\n
URL:https://ticketshop.pitmodule.de/shop/ksk-heilbronn/event/845366
DTSTART:20261220T180000
DTEND:20261220T213000
LOCATION:Gymnasiumstr. 71\, 74072 Heilbronn
END:VEVENT
END:VCALENDAR
