BEGIN:VCALENDAR
PRODID:ticketshop.pitmodule.de
VERSION:2.0
CALSCALE:GREGORIAN
BEGIN:VEVENT
UID:446f2d81dacb9baa0b07c167c1b02092
DTSTAMP:20260421T132232Z
SUMMARY:Markus Orths: Die Enthusiasten
DESCRIPTION:BeratungsCenter in Lauffen\nIm Brühl 10\n74348 Lauffen a.N.\n\
 n \n\nEin erzählerisches Feuerwerk über eine ziemlich besondere Familie
 \, bei der Bücherplateaus von der Decke hängen und in der Geschichten zu
 m Leben erweckt werden. Und über drei Geschwister\, die eine innige Liebe
  verbindet und ein großer Verlust.\n\nWas haben ein besessener Laurence-S
 terne-Fan auf der abenteuerlichen Jagd nach dem angeblichen zehnten Band v
 on Tristram Shandy\, eine Teilchenforscherin\, die abgeschirmt von kilomet
 erdicken Felswänden über Jahre versucht\, Dunkle-Materie-Teilchen zu erl
 auschen\, ein Kino-Enthusiast\, der abgefahrene Experimentalfilme ausheckt
 \, eine nordenglische Kleinstadt und ein sensationeller Fund gemeinsam? Si
 e kommen in Die Enthusiasten vor\, dem wahrscheinlich turbulentesten und g
 ewagtesten Roman seit Langem\, der auf halsbrecherische Weise die Grenzen 
 dessen auslotet\, was Erzählen kann und was menschengemachte Kunst ist. A
 uch dabei: eine rätselhafte Thailänderin\, eine unendlich liebenswerte\,
  lesebesessene und eigensinnige Mutter\, die spurlos verschwindet\, und ei
 n Vater\, der ausschließlich auf nie dagewesene Fragen antwortet. Den Abe
 nd moderiert Literaturhausleiter Dr. Anton Knittel.\n\nMarkus Orths\, 1969
  in Viersen geboren\, studierte Philosophie\, Romanistik sowie Anglistik u
 nd lebt in Karlsruhe. Bislang sind sechzehn Romane und Erzählbände von i
 hm erschienen\, u. a. Lehrerzimmer\, Das Zimmermädchen\, Alpha & Omega\, 
 Max\, Picknick im Dunkeln und Mary & Claire. Im Februar 2026 erscheint Die
  Enthusiasten im Galiani Verlag. Einige seiner Bücher wurden in insgesamt
  neunzehn Sprachen übersetzt und vielfach ausgezeichnet\, zuletzt mit dem
  Stipendium des Deutschen Literaturfonds. Orths hielt Poetikvorlesungen in
  Paderborn und Bamberg. Sein Stück Femme de Chambre gewann den Prix Thé
 âtre 13. In Baden-Baden wurde Die Entfernung der Amygdala uraufgeführt. 
 Das Zimmermädchen Lynn kam 2015 in die Kinos.\nFoto Markus Orths: © Urba
 n Zintel"\n
URL:https://ticketshop.pitmodule.de/shop/ksk-heilbronn/event/855523
DTSTART:20260421T193000
DTEND:20260421T210000
LOCATION:Im Brühl\, 74348 Lauffen
END:VEVENT
END:VCALENDAR
