BEGIN:VCALENDAR
PRODID:ticketshop.pitmodule.de
VERSION:2.0
CALSCALE:GREGORIAN
BEGIN:VEVENT
UID:048e896bc51169ad9a878d8f1b4153f0
DTSTAMP:20260421T132109Z
SUMMARY:Generation Zukunft: Finanziell gut aufgestellt in jeder Lebensphase
DESCRIPTION:Freuen Sie sich am 22. April im BeratungsCenter Bad Friedrichsh
 all unter dem Titel "Generation Zukunft: Finanziell gut aufgestellt in jed
 er Lebensphase" auf die folgenden Referenten:\n\nProf. Dr. Rudi Zagst (Lei
 ter des Lehrstuhls für Finanzmathematik\, Technische Universität Münche
 n)\nUlrich Fiedler (Altersvorsorgeberater\, Deutsche Rentenversicherung)\n
 Daniela Martin (Beraterin\, Kreissparkasse Heilbronn)\n
URL:https://ticketshop.pitmodule.de/shop/ksk-heilbronn/event/865228
DTSTART:20260422T190000
DTEND:20260422T201500
LOCATION:Friedrichsplatz 1\, 74177 Bad Friedrichshall
END:VEVENT
END:VCALENDAR
