BEGIN:VCALENDAR
PRODID:ticketshop.pitmodule.de
VERSION:2.0
CALSCALE:GREGORIAN
BEGIN:VEVENT
UID:83cc83a5e170569e48f44a9682b11834
DTSTAMP:20260421T132109Z
SUMMARY:Generation Zukunft: Finanziell gut aufgestellt in jeder Lebensphase
DESCRIPTION:Freuen Sie sich am 4. Mai im BeratungsCenter Lauffen unter dem 
 Titel "Generation Zukunft: Finanziell gut aufgestellt in jeder Lebensphase
 " auf die folgenden Referenten:\n\nProf. Dr. Rudi Zagst (Leiter des Lehrst
 uhls für Finanzmathematik\, Technische Universität München)\nUlrich Fie
 dler (Altersvorsorgeberater\, Deutsche Rentenversicherung)\nSabrina Lorenz
  (Beraterin\, Kreissparkasse Heilbronn)\n
URL:https://ticketshop.pitmodule.de/shop/ksk-heilbronn/event/865230
DTSTART:20260504T190000
DTEND:20260504T201500
LOCATION:Im Brühl 10\, 74348 Lauffen am Neckar
END:VEVENT
END:VCALENDAR
