BEGIN:VCALENDAR
PRODID:ticketshop.pitmodule.de
VERSION:2.0
CALSCALE:GREGORIAN
BEGIN:VEVENT
UID:fc28681c4a947b93882fdf35c22a33f3
DTSTAMP:20260421T145942Z
SUMMARY:Moving Souls - Musik\, die bewegt!
DESCRIPTION:Filiale der Kreissparkasse in Eppingen\nBahnhofstraße 5\n75031
  Eppingen\n\n \n\nMiriam Martin – Gesang\nSarah Hank-Paidar – Bass\nM
 atthias Waßer – Gitarre\n\nOb auf der Bühne oder mitten im Publikum 
 – Moving Souls fasziniert mit vielseitigem Repertoire und ausdrucksstark
 er Präsenz. Die Band\, bestehend aus Matthias Waßer (Gitarre)\, Miriam M
 artin (Gesang) und Sarah Hank-Paidar (Bass)\, bringt Musik aus den vergang
 enen sieben Jahrzehnten auf eine Weise zum Leben\, die berührt und begei
 stert. Von zeitlosen Klassikern bis zu aktuellen Hits präsentiert Moving 
 Souls eine abwechslungsreiche Mischung. Ob als stimmungsvoller Walking Act
 \, der hautnah mit den Gästen interagiert\, oder als mitreißende Darbiet
 ung auf der Bühne – die Band überzeugt durch Professionalität\, Vie
 lseitigkeit und musikalisches Können. Das Trio versteht es\, bei jedem Ko
 nzert eine besondere Atmosphäre zu schaffen. Lassen Sie sich von ihrem Gr
 oove anstecken und erleben Sie eine Band\, die nicht nur spielt\, sondern 
 bewegt – Moving Souls.\n
URL:https://ticketshop.pitmodule.de/shop/ksk-heilbronn/event/872359
DTSTART:20260923T193000
DTEND:20260923T210000
LOCATION:Bahnhofstraße 5\, 75031 Eppingen
END:VEVENT
END:VCALENDAR
