BEGIN:VCALENDAR
PRODID:ticketshop.pitmodule.de
VERSION:2.0
CALSCALE:GREGORIAN
BEGIN:VEVENT
UID:1b5f2cfffbe334489450cfd1500c3f42
DTSTAMP:20260421T184056Z
SUMMARY:2. blacksheep Sommerfest
DESCRIPTION:Sichern Sie sich Ihre Tickets für das 2. Sommerfest des legend
 äre Blacksheep Festivals im Bonfelder Schlosspark. Gleich hier bestellen 
 zum Sonderpreis für alle Girokontokunden der Kreissparkasse Heilbronn.\n\
 nTagesticket für nur 53 Euro (anstatt 59 Euro) mit den folgenden Bandhigh
 lights:\n\nMax Mutzke\, Steve’n’Seagulls und Vanja Sky\n\nBeginn 17.00
  Uhr\, Einlass 15.00 Uhr. Weitere Informationen finden Sie unter www.black
 sheep-kultur.de.\n
URL:https://ticketshop.pitmodule.de/shop/ksk-heilbronn/event/876267
DTSTART;VALUE=DATE:20260627
LOCATION:Kirchhausener Straße 1\, 74906 Bad Rappenau-Bonfeld
END:VEVENT
END:VCALENDAR
