BEGIN:VCALENDAR
PRODID:ticketshop.pitmodule.de
VERSION:2.0
CALSCALE:GREGORIAN
BEGIN:VEVENT
UID:513c8b7b5d707667c173731d05f290f4
DTSTAMP:20260421T132127Z
SUMMARY:Tripsdrill Tages-Pässe 2026
DESCRIPTION:Vergünstigte Tripsdrill Tages-Pässe - exklusiv für alle Kund
 en der Kreissparkasse Heilbronn.\n\nErlebnispark Tripsdrill\, das bedeutet
  Spaß für die ganze Familie. Ob rasant oder gemütlich – viele Attrakt
 ionen warten darauf\, ausprobiert zu werden.\n \nIn diesem Jahr  bieten
  wir wieder Tripsdrill Tages-Pässe zum attraktiven Sonderpreis an.\nErwac
 hsene zahlen nur 40\,- Euro\, Kinder bis 11 Jahre zahlen nur 37 Euro. Kind
 er bis 3 Jahre haben freien Eintritt. Senioren ab 60 Jahren bezahlen den 
 Kinderpreis. Die Karten sind bis Saisonende 2026 (01.11.2026) gültig. Das
  Angebot gilt nur solange der Vorrat reicht.\n\nWir wünschen Ihnen schon 
 jetzt einen erlebnisreichen Tag in Tripsdrill.\n\n\nBitte beachten Sie: Di
 e Rücknahme bzw. der Umtausch von Tagespässen ist leider nicht möglich.
 \n
URL:https://ticketshop.pitmodule.de/shop/ksk-heilbronn/event/886072
DTSTART;VALUE=DATE:20260321
LOCATION:Erlebnispark Tripsdrill\, 74389 Cleebronn
END:VEVENT
END:VCALENDAR
