BEGIN:VCALENDAR
PRODID:ticketshop.pitmodule.de
VERSION:2.0
CALSCALE:GREGORIAN
BEGIN:VEVENT
UID:35eecdd992769e310ca68fe8f7d66a9f
DTSTAMP:20260421T132109Z
SUMMARY:TEAL. Day Party @Kreissparkasse Heilbronn
DESCRIPTION:
URL:https://ticketshop.pitmodule.de/shop/ksk-heilbronn/event/908292
DTSTART:20260530T150000
DTEND:20260530T235900
LOCATION:Am Wollhaus 14\, 74072 Heilbronn
END:VEVENT
END:VCALENDAR
