BEGIN:VCALENDAR
PRODID:ticketshop.pitmodule.de
VERSION:2.0
CALSCALE:GREGORIAN
BEGIN:VEVENT
UID:b0bc6d7cfd459a25a753750cb3798f8f
DTSTAMP:20260421T151816Z
SUMMARY:Poetry vs. Comedy
DESCRIPTION:Die Maschinenfabrik und die Kreissparkasse Heilbronn präsentie
 ren den Showdown zweier Bühnenwelten. Beim großen Poetry vs. Comedy Spec
 ial des Heilbronner Poetry Slam prallen zwei Kunstformen aufeinander: Wort
 kunst gegen Stand-up\, Tiefgang gegen Pointe und Gänsehautmoment gegen La
 chflash.\n\nMal nachdenklich\, mal komplett drüber\, aber garantiert nie 
 langweilig. Am Ende entscheidet wie immer das Publikum: Wer holt den Sieg 
 – Poetry oder Comedy?\n\nBei einem Poetry Slam (sinngemäß: Dichter:inn
 enwettstreit oder Dichter:innenschlacht) wird selbstverfasste Literatur (e
 ngl. Poetry) auf einer Bühne im Wettstreit (engl. Slam) performt. Das Pub
 likum ist gleichzeitig Jury und entscheidet z.B. per Applaus über Sieg un
 d Niederlage der Slam Poet:innen. Die Texte sind mal lyrisch und mal humor
 istisch\, mal gereimt und mal gerappt\, mal kritisch und mal dadaistisch. 
 Das Publikum ist bunt gemischt – vom Jugendlichen bis zur Rentnerin zieh
 en die Poetry Slams viele Menschen in ihren Bann. Die Veranstaltungsform e
 ntstand 1986 in Chicago und verbreitete sich in den 1990er Jahren weltweit
 . Dabei gilt die deutschsprachige Slam-Szene nach der englischsprachigen a
 ls die zweitgrößte der Welt.\n\nWeitere Infos und das Line-Up folgen.\n
URL:https://ticketshop.pitmodule.de/shop/ksk-heilbronn/event/908293
DTSTART;VALUE=DATE:20261120
LOCATION:Am Wollhaus 14\, 74072 Heilbronn
END:VEVENT
END:VCALENDAR
